BEGIN:VCALENDAR
VERSION:2.0
PRODID:-//Tierschutz groß geschrieben - ECPv6.15.20//NONSGML v1.0//EN
CALSCALE:GREGORIAN
METHOD:PUBLISH
X-WR-CALNAME:Tierschutz groß geschrieben
X-ORIGINAL-URL:https://www.tierschutz-wiesloch-walldorf.de
X-WR-CALDESC:Veranstaltungen für Tierschutz groß geschrieben
REFRESH-INTERVAL;VALUE=DURATION:PT1H
X-Robots-Tag:noindex
X-PUBLISHED-TTL:PT1H
BEGIN:VTIMEZONE
TZID:Europe/Berlin
BEGIN:DAYLIGHT
TZOFFSETFROM:+0100
TZOFFSETTO:+0200
TZNAME:CEST
DTSTART:20250330T010000
END:DAYLIGHT
BEGIN:STANDARD
TZOFFSETFROM:+0200
TZOFFSETTO:+0100
TZNAME:CET
DTSTART:20251026T010000
END:STANDARD
BEGIN:DAYLIGHT
TZOFFSETFROM:+0100
TZOFFSETTO:+0200
TZNAME:CEST
DTSTART:20260329T010000
END:DAYLIGHT
BEGIN:STANDARD
TZOFFSETFROM:+0200
TZOFFSETTO:+0100
TZNAME:CET
DTSTART:20261025T010000
END:STANDARD
BEGIN:DAYLIGHT
TZOFFSETFROM:+0100
TZOFFSETTO:+0200
TZNAME:CEST
DTSTART:20270328T010000
END:DAYLIGHT
BEGIN:STANDARD
TZOFFSETFROM:+0200
TZOFFSETTO:+0100
TZNAME:CET
DTSTART:20271031T010000
END:STANDARD
END:VTIMEZONE
BEGIN:VEVENT
DTSTART;TZID=Europe/Berlin:20260621T110000
DTEND;TZID=Europe/Berlin:20260621T170000
DTSTAMP:20260423T115903
CREATED:20251005T111614Z
LAST-MODIFIED:20260407T132141Z
UID:4728-1782039600-1782061200@www.tierschutz-wiesloch-walldorf.de
SUMMARY:Sommerfest 2026
DESCRIPTION:
URL:https://www.tierschutz-wiesloch-walldorf.de/event/sommerfest-2026/
LOCATION:Tom-Tatze-Tierheim\, Nußlocher Straße 108\, Walldorf\, BaWü\, 69190\, Germany
CATEGORIES:Veranstaltungstermine
END:VEVENT
BEGIN:VEVENT
DTSTART;TZID=Europe/Berlin:20261129T130000
DTEND;TZID=Europe/Berlin:20261129T170000
DTSTAMP:20260423T115903
CREATED:20251005T111447Z
LAST-MODIFIED:20251005T111744Z
UID:4725-1795957200-1795971600@www.tierschutz-wiesloch-walldorf.de
SUMMARY:1. Advent im Tom-Tatze-Tierheim 2026
DESCRIPTION:Weitere Infos folgen.
URL:https://www.tierschutz-wiesloch-walldorf.de/event/1-advent-im-tom-tatze-tierheim-5/
LOCATION:Tom-Tatze-Tierheim\, Nußlocher Straße 108\, Walldorf\, BaWü\, 69190\, Germany
CATEGORIES:Veranstaltungstermine
END:VEVENT
END:VCALENDAR